BEGIN:VCALENDAR
VERSION:2.0
PRODID:spatie/icalendar-generator
DESCRIPTION:Events from Efektivni altruizam
X-WR-CALDESC:Events from Efektivni altruizam
REFRESH-INTERVAL;VALUE=DURATION:PT1440M
X-PUBLISHED-TTL:PT1440M
BEGIN:VTIMEZONE
TZID:Etc/GMT+0
BEGIN:STANDARD
DTSTART:20241125T000000Z
TZOFFSETFROM:+0000
TZOFFSETTO:+0000
END:STANDARD
END:VTIMEZONE
BEGIN:VTIMEZONE
TZID:UTC
BEGIN:STANDARD
DTSTART:20250729T210043Z
TZOFFSETFROM:+0000
TZOFFSETTO:+0000
END:STANDARD
END:VTIMEZONE
BEGIN:VEVENT
UID:66-53
DTSTAMP:20260425T210043Z
SUMMARY:EA Serbia Retreat
LOCATION:Majkin salas Atile Jozefa 79 Salas 294  Palic
ORGANIZER;CN=ezglcbmy:MAILTO:ezglcbmy@box5311.bluehost.com
DTSTART;TZID=Etc/GMT+0;VALUE=DATE:20250822
DTEND;TZID=Etc/GMT+0;VALUE=DATE:20250825
X-ALT-DESC;FMTTYPE=TEXT/HTML:- August 22-24\, 2024 (come early on 21st if y
 ou can!) - €80-150 per person (accommodation + all meals) - Limited spot
 s\, first-come\, first-served on rooms Based on last year participants' fe
 edback\, we're planning to make this one even better - incorporating the l
 essons learned and aiming for that full 3-day experience everyone wanted. 
 We'd&amp;hellip\;
CATEGORIES:General
URL;VALUE=URI:https://efektivnialtruizam.rs/mc-events/ea-serbia-retreat/
METHOD:PUBLISH
END:VEVENT
END:VCALENDAR