BEGIN:VCALENDAR
VERSION:2.0
PRODID:spatie/icalendar-generator
DESCRIPTION:Events from Efektivni altruizam
X-WR-CALDESC:Events from Efektivni altruizam
REFRESH-INTERVAL;VALUE=DURATION:PT1440M
X-PUBLISHED-TTL:PT1440M
BEGIN:VTIMEZONE
TZID:Etc/GMT+0
BEGIN:STANDARD
DTSTART:20250226T160000Z
TZOFFSETFROM:+0000
TZOFFSETTO:+0000
END:STANDARD
END:VTIMEZONE
BEGIN:VTIMEZONE
TZID:UTC
BEGIN:STANDARD
DTSTART:20250728T220907Z
TZOFFSETFROM:+0000
TZOFFSETTO:+0000
END:STANDARD
END:VTIMEZONE
BEGIN:VEVENT
UID:79-66
DTSTAMP:20260424T220907Z
SUMMARY:casual meet up + lunch at VegANGELov vegan restaurant
LOCATION:VegANGELov vegan restaurant Gospodar Jovanova 42a  Beograd  11000
ORGANIZER;CN=ezglcbmy:MAILTO:ezglcbmy@box5311.bluehost.com
DTSTART;TZID=Etc/GMT+0:20251123T160000
DTEND;TZID=Etc/GMT+0:20251123T180000
X-ALT-DESC;FMTTYPE=TEXT/HTML:Please email (or WhatsApp/Telegram) me at tanj
 a.trninic@efektivnialtruizam.com if you’d like to participate and have a
 ny dietary restrictions.
CATEGORIES:General
URL;VALUE=URI:https://efektivnialtruizam.rs/mc-events/casual-meet-up-lunch-
 at-vegangelov-vegan-restaurant/
METHOD:PUBLISH
END:VEVENT
END:VCALENDAR