BEGIN:VCALENDAR
VERSION:2.0
PRODID:spatie/icalendar-generator
DESCRIPTION:Events from Efektivni altruizam
X-WR-CALDESC:Events from Efektivni altruizam
REFRESH-INTERVAL;VALUE=DURATION:PT1440M
X-PUBLISHED-TTL:PT1440M
BEGIN:VTIMEZONE
TZID:Etc/GMT+0
BEGIN:STANDARD
DTSTART:20250401T160000Z
TZOFFSETFROM:+0000
TZOFFSETTO:+0000
END:STANDARD
END:VTIMEZONE
BEGIN:VTIMEZONE
TZID:UTC
BEGIN:STANDARD
DTSTART:20250728T162718Z
TZOFFSETFROM:+0000
TZOFFSETTO:+0000
END:STANDARD
END:VTIMEZONE
BEGIN:VEVENT
UID:83-69
DTSTAMP:20260424T162718Z
SUMMARY:Casual meet up + lunch at Bemata vegan restaurant
LOCATION:Bemata vegan restaurant Uroša Martinovića\, Beograd  New Belgra
 de
ORGANIZER;CN=ezglcbmy:MAILTO:ezglcbmy@box5311.bluehost.com
DTSTART;TZID=Etc/GMT+0:20251227T160000
DTEND;TZID=Etc/GMT+0:20251227T180000
X-ALT-DESC;FMTTYPE=TEXT/HTML:As a token of appreciation for sharing your ti
 me with us for the past year\, we’ll be sharing small New Year gifts wit
 h everyone. Please email (or WhatsApp/Telegram) me at tanja.trninic@efekti
 vnialtruizam.com if you’d like to participate and have any dietary restr
 ictions.
CATEGORIES:General
URL;VALUE=URI:https://efektivnialtruizam.rs/mc-events/casual-meet-up-lunch-
 at-bemata-vegan-restaurant/
METHOD:PUBLISH
END:VEVENT
END:VCALENDAR