BEGIN:VCALENDAR
VERSION:2.0
PRODID:spatie/icalendar-generator
DESCRIPTION:Events from Efektivni altruizam
X-WR-CALDESC:Events from Efektivni altruizam
REFRESH-INTERVAL;VALUE=DURATION:PT1440M
X-PUBLISHED-TTL:PT1440M
BEGIN:VTIMEZONE
TZID:Etc/GMT+0
BEGIN:STANDARD
DTSTART:20250423T140000Z
TZOFFSETFROM:+0000
TZOFFSETTO:+0000
END:STANDARD
END:VTIMEZONE
BEGIN:VTIMEZONE
TZID:UTC
BEGIN:STANDARD
DTSTART:20250728T144043Z
TZOFFSETFROM:+0000
TZOFFSETTO:+0000
END:STANDARD
END:VTIMEZONE
BEGIN:VEVENT
UID:84-70
DTSTAMP:20260424T144043Z
SUMMARY:Monthly meeting EA/ACX/LW community
LOCATION:Green Bar House Dr. Dragoslava Popovica 24  Belgrade Serbia
ORGANIZER;CN=ezglcbmy:MAILTO:ezglcbmy@box5311.bluehost.com
DTSTART;TZID=Etc/GMT+0:20260118T140000
DTEND;TZID=Etc/GMT+0:20260118T160000
X-ALT-DESC;FMTTYPE=TEXT/HTML:&amp;nbsp\; Get to know different paths to impact 
 in EA - a Q&amp;amp\;A session with EA Serbia members. (https://www.effectivea
 ltruism.org/faqs)
CATEGORIES:General
URL;VALUE=URI:https://efektivnialtruizam.rs/mc-events/monthly-meeting-ea-ac
 x-lw-community-17/
METHOD:PUBLISH
END:VEVENT
END:VCALENDAR