BEGIN:VCALENDAR
VERSION:2.0
PRODID:spatie/icalendar-generator
DESCRIPTION:Events from Efektivni altruizam
X-WR-CALDESC:Events from Efektivni altruizam
REFRESH-INTERVAL;VALUE=DURATION:PT1440M
X-PUBLISHED-TTL:PT1440M
BEGIN:VTIMEZONE
TZID:Etc/GMT+0
BEGIN:STANDARD
DTSTART:20250430T160000Z
TZOFFSETFROM:+0000
TZOFFSETTO:+0000
END:STANDARD
END:VTIMEZONE
BEGIN:VTIMEZONE
TZID:UTC
BEGIN:STANDARD
DTSTART:20250728T125146Z
TZOFFSETFROM:+0000
TZOFFSETTO:+0000
END:STANDARD
END:VTIMEZONE
BEGIN:VEVENT
UID:85-71
DTSTAMP:20260424T125146Z
SUMMARY:Casual meet up + lunch
LOCATION:Maikhana Indian cafe &amp;amp\; restaurant
ORGANIZER;CN=ezglcbmy:MAILTO:ezglcbmy@box5311.bluehost.com
DTSTART;TZID=Etc/GMT+0:20260125T160000
DTEND;TZID=Etc/GMT+0:20260125T180000
X-ALT-DESC;FMTTYPE=TEXT/HTML:Casual meet up + lunch at Maikhana Indian cafe
  &amp;amp\; restaurant. (https://maps.app.goo.gl/EGaNBVb2EDxVKTR4A) Please ema
 il (or WhatsApp/Telegram) me at tanja.trninic@efektivnialtruizam.com if yo
 u’d like to participate and have any dietary restrictions.
CATEGORIES:General
URL;VALUE=URI:https://efektivnialtruizam.rs/mc-events/casual-meet-up-lunch-
 2/
METHOD:PUBLISH
END:VEVENT
END:VCALENDAR