BEGIN:VCALENDAR
VERSION:2.0
PRODID:spatie/icalendar-generator
DESCRIPTION:Events from Efektivni altruizam
X-WR-CALDESC:Events from Efektivni altruizam
REFRESH-INTERVAL;VALUE=DURATION:PT1440M
X-PUBLISHED-TTL:PT1440M
BEGIN:VTIMEZONE
TZID:Etc/GMT+0
BEGIN:STANDARD
DTSTART:20250528T160000Z
TZOFFSETFROM:+0000
TZOFFSETTO:+0000
END:STANDARD
END:VTIMEZONE
BEGIN:VTIMEZONE
TZID:UTC
BEGIN:STANDARD
DTSTART:20250726T001029Z
TZOFFSETFROM:+0000
TZOFFSETTO:+0000
END:STANDARD
END:VTIMEZONE
BEGIN:VEVENT
UID:88-74
DTSTAMP:20260422T001029Z
SUMMARY:Casual meet up
LOCATION:Radost fina kuhinjica
ORGANIZER;CN=ezglcbmy:MAILTO:ezglcbmy@box5311.bluehost.com
DTSTART;TZID=Etc/GMT+0:20260222T160000
DTEND;TZID=Etc/GMT+0:20260222T180000
X-ALT-DESC;FMTTYPE=TEXT/HTML:Casual meet up + lunch at Radost vegan restaur
 ant. Please email (or WhatsApp/Telegram) me at tanja.trninic@efektivnialtr
 uizam.com if you’d like to participate and have any dietary restrictions
 .
CATEGORIES:General
URL;VALUE=URI:https://efektivnialtruizam.rs/mc-events/casual-meet-up/
METHOD:PUBLISH
END:VEVENT
END:VCALENDAR