BEGIN:VCALENDAR
VERSION:2.0
PRODID:spatie/icalendar-generator
DESCRIPTION:Events from Efektivni altruizam
X-WR-CALDESC:Events from Efektivni altruizam
REFRESH-INTERVAL;VALUE=DURATION:PT1440M
X-PUBLISHED-TTL:PT1440M
BEGIN:VTIMEZONE
TZID:Etc/GMT+0
BEGIN:STANDARD
DTSTART:20250618T140000Z
TZOFFSETFROM:+0000
TZOFFSETTO:+0000
END:STANDARD
END:VTIMEZONE
BEGIN:VTIMEZONE
TZID:UTC
BEGIN:STANDARD
DTSTART:20250725T191213Z
TZOFFSETFROM:+0000
TZOFFSETTO:+0000
END:STANDARD
END:VTIMEZONE
BEGIN:VEVENT
UID:90-76
DTSTAMP:20260421T191213Z
SUMMARY:AI Safety monthly meeting
LOCATION:Green Bar House Dr. Dragoslava Popovica 24  Belgrade Serbia
ORGANIZER;CN=ezglcbmy:MAILTO:ezglcbmy@box5311.bluehost.com
DTSTART;TZID=Etc/GMT+0:20260315T140000
DTEND;TZID=Etc/GMT+0:20260315T160000
X-ALT-DESC;FMTTYPE=TEXT/HTML:AI Safety monthly meeting: Why do Economists f
 ail to engage with AI seriously\, what is the change we are seeing in econ
 omists now\, and what taking AI seriously means.
CATEGORIES:General
URL;VALUE=URI:https://efektivnialtruizam.rs/mc-events/ai-safety-monthly-mee
 ting-15/
METHOD:PUBLISH
END:VEVENT
END:VCALENDAR