BEGIN:VCALENDAR
VERSION:2.0
PRODID:spatie/icalendar-generator
DESCRIPTION:Events from Efektivni altruizam
X-WR-CALDESC:Events from Efektivni altruizam
REFRESH-INTERVAL;VALUE=DURATION:PT1440M
X-PUBLISHED-TTL:PT1440M
BEGIN:VTIMEZONE
TZID:Etc/GMT+0
BEGIN:STANDARD
DTSTART:20240731T160000Z
TZOFFSETFROM:+0000
TZOFFSETTO:+0000
END:STANDARD
END:VTIMEZONE
BEGIN:VTIMEZONE
TZID:UTC
BEGIN:STANDARD
DTSTART:20250730T024536Z
TZOFFSETFROM:+0000
TZOFFSETTO:+0000
END:STANDARD
END:VTIMEZONE
BEGIN:VEVENT
UID:62-49
DTSTAMP:20260426T024536Z
SUMMARY:ACX casual meet up + lunch
LOCATION:VegANGELov vegan restaurant Gospodar Jovanova 42a  Beograd  11000
ORGANIZER;CN=ezglcbmy:MAILTO:ezglcbmy@box5311.bluehost.com
DTSTART;TZID=Etc/GMT+0:20250427T160000
DTEND;TZID=Etc/GMT+0:20250427T180000
X-ALT-DESC;FMTTYPE=TEXT/HTML:ACX casual meet up + lunch at VegANGELov vegan
  restaurant. Please email (or WhatsApp/Telegram) me at tanja.trninic@efekt
 ivnialtruizam.com if you’d like to participate and have any dietary rest
 rictions. EA Serbia and ACX cover one meal and one drink.
CATEGORIES:General
URL;VALUE=URI:https://efektivnialtruizam.rs/mc-events/acx-casual-meet-up-lu
 nch-2/
METHOD:PUBLISH
END:VEVENT
END:VCALENDAR