BEGIN:VCALENDAR
VERSION:2.0
PRODID:spatie/icalendar-generator
DESCRIPTION:Events from Efektivni altruizam
X-WR-CALDESC:Events from Efektivni altruizam
REFRESH-INTERVAL;VALUE=DURATION:PT1440M
X-PUBLISHED-TTL:PT1440M
BEGIN:VTIMEZONE
TZID:Etc/GMT+0
BEGIN:STANDARD
DTSTART:20241002T140000Z
TZOFFSETFROM:+0000
TZOFFSETTO:+0000
END:STANDARD
END:VTIMEZONE
BEGIN:VTIMEZONE
TZID:UTC
BEGIN:STANDARD
DTSTART:20250729T230311Z
TZOFFSETFROM:+0000
TZOFFSETTO:+0000
END:STANDARD
END:VTIMEZONE
BEGIN:VEVENT
UID:65-52
DTSTAMP:20260425T230311Z
SUMMARY:AI safety monthly meeting
LOCATION:Green Bar House Dr. Dragoslava Popovica 24  Belgrade Serbia
ORGANIZER;CN=ezglcbmy:MAILTO:ezglcbmy@box5311.bluehost.com
DTSTART;TZID=Etc/GMT+0:20250629T140000
DTEND;TZID=Etc/GMT+0:20250629T160000
X-ALT-DESC;FMTTYPE=TEXT/HTML:AI safety monthly meeting\, hosted by Igor Tim
 ofeev: - Religion and church in TAI times
CATEGORIES:General
URL;VALUE=URI:https://efektivnialtruizam.rs/mc-events/ai-safety-monthly-mee
 ting-9/
METHOD:PUBLISH
END:VEVENT
END:VCALENDAR