BEGIN:VCALENDAR
VERSION:2.0
PRODID:spatie/icalendar-generator
DESCRIPTION:Events from Efektivni altruizam
X-WR-CALDESC:Events from Efektivni altruizam
REFRESH-INTERVAL;VALUE=DURATION:PT1440M
X-PUBLISHED-TTL:PT1440M
BEGIN:VTIMEZONE
TZID:Etc/GMT+0
BEGIN:STANDARD
DTSTART:20241030T180000Z
TZOFFSETFROM:+0000
TZOFFSETTO:+0000
END:STANDARD
END:VTIMEZONE
BEGIN:VTIMEZONE
TZID:UTC
BEGIN:STANDARD
DTSTART:20250729T152655Z
TZOFFSETFROM:+0000
TZOFFSETTO:+0000
END:STANDARD
END:VTIMEZONE
BEGIN:VEVENT
UID:68-55
DTSTAMP:20260425T152655Z
SUMMARY:Casual meet-up + sand volleyball
LOCATION:Shark - Licence to chill Ada ciganlija  Belgrade
ORGANIZER;CN=ezglcbmy:MAILTO:ezglcbmy@box5311.bluehost.com
DTSTART;TZID=Etc/GMT+0:20250727T180000
DTEND;TZID=Etc/GMT+0:20250727T200000
X-ALT-DESC;FMTTYPE=TEXT/HTML:Casual meet-up + sand volleyball at Shark - Li
 cence to Chill cafeteria at Ada Lake. Please email (or WhatsApp/Telegram) 
 me at tanja.trninic@efektivnialtruizam.com if you’d like to participate.
  We will cover the cost of court renting and a drink after the game.
CATEGORIES:General
URL;VALUE=URI:https://efektivnialtruizam.rs/mc-events/casual-meet-up-sand-v
 olleyball/
METHOD:PUBLISH
END:VEVENT
END:VCALENDAR