BEGIN:VCALENDAR
VERSION:2.0
PRODID:spatie/icalendar-generator
DESCRIPTION:Events from Efektivni altruizam
X-WR-CALDESC:Events from Efektivni altruizam
REFRESH-INTERVAL;VALUE=DURATION:PT1440M
X-PUBLISHED-TTL:PT1440M
BEGIN:VTIMEZONE
TZID:Etc/GMT+0
BEGIN:STANDARD
DTSTART:20250101T180000Z
TZOFFSETFROM:+0000
TZOFFSETTO:+0000
END:STANDARD
END:VTIMEZONE
BEGIN:VTIMEZONE
TZID:UTC
BEGIN:STANDARD
DTSTART:20250729T114552Z
TZOFFSETFROM:+0000
TZOFFSETTO:+0000
END:STANDARD
END:VTIMEZONE
BEGIN:VEVENT
UID:71-58
DTSTAMP:20260425T114552Z
SUMMARY:ACX casual meet up + dinner
LOCATION:VegANGELov vegan restaurant Gospodar Jovanova 42a  Beograd  11000
ORGANIZER;CN=ezglcbmy:MAILTO:ezglcbmy@box5311.bluehost.com
DTSTART;TZID=Etc/GMT+0:20250928T180000
DTEND;TZID=Etc/GMT+0:20250928T200000
X-ALT-DESC;FMTTYPE=TEXT/HTML:Please email me at tanja.trninic@efektivnialtr
 uizam.com if you’d like to participate and have any dietary restrictions
 . ACX covers one meal and one drink.
CATEGORIES:General
URL;VALUE=URI:https://efektivnialtruizam.rs/mc-events/acx-casual-meet-up-di
 nner/
METHOD:PUBLISH
END:VEVENT
END:VCALENDAR