BEGIN:VCALENDAR
VERSION:2.0
PRODID:spatie/icalendar-generator
DESCRIPTION:Events from Efektivni altruizam
X-WR-CALDESC:Events from Efektivni altruizam
REFRESH-INTERVAL;VALUE=DURATION:PT1440M
X-PUBLISHED-TTL:PT1440M
BEGIN:VTIMEZONE
TZID:Etc/GMT+0
BEGIN:STANDARD
DTSTART:20250115T140000Z
TZOFFSETFROM:+0000
TZOFFSETTO:+0000
END:STANDARD
END:VTIMEZONE
BEGIN:VTIMEZONE
TZID:UTC
BEGIN:STANDARD
DTSTART:20250729T041704Z
TZOFFSETFROM:+0000
TZOFFSETTO:+0000
END:STANDARD
END:VTIMEZONE
BEGIN:VEVENT
UID:74-61
DTSTAMP:20260425T041704Z
SUMMARY:Monthly meeting EA/ACX/LW community
LOCATION:Green Bar House Dr. Dragoslava Popovica 24  Belgrade Serbia
ORGANIZER;CN=ezglcbmy:MAILTO:ezglcbmy@box5311.bluehost.com
DTSTART;TZID=Etc/GMT+0:20251012T140000
DTEND;TZID=Etc/GMT+0:20251012T160000
X-ALT-DESC;FMTTYPE=TEXT/HTML:Monthly meeting EA/ACX/LW community\, with 2 t
 opics for the meeting (we'll spend about an hour on each): 1. An example o
 f effective lobbying - how impactful can it be for different causes? 2. Ho
 w can we deal with procrastination and decision fatigue?
CATEGORIES:General
URL;VALUE=URI:https://efektivnialtruizam.rs/mc-events/monthly-meeting-ea-ac
 x-lw-community-15/
METHOD:PUBLISH
END:VEVENT
END:VCALENDAR