BEGIN:VCALENDAR
VERSION:2.0
PRODID:spatie/icalendar-generator
DESCRIPTION:Events from Efektivni altruizam
X-WR-CALDESC:Events from Efektivni altruizam
REFRESH-INTERVAL;VALUE=DURATION:PT1440M
X-PUBLISHED-TTL:PT1440M
BEGIN:VTIMEZONE
TZID:Etc/GMT+0
BEGIN:STANDARD
DTSTART:20250122T140000Z
TZOFFSETFROM:+0000
TZOFFSETTO:+0000
END:STANDARD
END:VTIMEZONE
BEGIN:VTIMEZONE
TZID:UTC
BEGIN:STANDARD
DTSTART:20250729T022533Z
TZOFFSETFROM:+0000
TZOFFSETTO:+0000
END:STANDARD
END:VTIMEZONE
BEGIN:VEVENT
UID:75-62
DTSTAMP:20260425T022533Z
SUMMARY:AI Safety monthly meeting
LOCATION:Green Bar House Dr. Dragoslava Popovica 24  Belgrade Serbia
ORGANIZER;CN=ezglcbmy:MAILTO:ezglcbmy@box5311.bluehost.com
DTSTART;TZID=Etc/GMT+0:20251019T140000
DTEND;TZID=Etc/GMT+0:20251019T160000
X-ALT-DESC;FMTTYPE=TEXT/HTML:AI Safety monthly meeting: What should be the 
 red lines for AGI? Suggestions for further reading: this article\, as well
  as this one.
CATEGORIES:General
URL;VALUE=URI:https://efektivnialtruizam.rs/mc-events/ai-safety-monthly-mee
 ting-12/
METHOD:PUBLISH
END:VEVENT
END:VCALENDAR