BEGIN:VCALENDAR
VERSION:2.0
PRODID:spatie/icalendar-generator
DESCRIPTION:Events from Efektivni altruizam
X-WR-CALDESC:Events from Efektivni altruizam
REFRESH-INTERVAL;VALUE=DURATION:PT1440M
X-PUBLISHED-TTL:PT1440M
BEGIN:VTIMEZONE
TZID:Etc/GMT+0
BEGIN:STANDARD
DTSTART:20250212T140000Z
TZOFFSETFROM:+0000
TZOFFSETTO:+0000
END:STANDARD
END:VTIMEZONE
BEGIN:VTIMEZONE
TZID:UTC
BEGIN:STANDARD
DTSTART:20250728T223040Z
TZOFFSETFROM:+0000
TZOFFSETTO:+0000
END:STANDARD
END:VTIMEZONE
BEGIN:VEVENT
UID:77-64
DTSTAMP:20260424T223040Z
SUMMARY:Ai Safety monthly meeting
LOCATION:Green Bar House Dr. Dragoslava Popovica 24  Belgrade Serbia
ORGANIZER;CN=ezglcbmy:MAILTO:ezglcbmy@box5311.bluehost.com
DTSTART;TZID=Etc/GMT+0:20251109T140000
DTEND;TZID=Etc/GMT+0:20251109T160000
X-ALT-DESC;FMTTYPE=TEXT/HTML:AI Psychosis - fad or omen We've seen examples
  of AI Psychosis and AI Spiraling\, and even AI trying to spread by asking
  humans to share prompts to other AIs. What do we make of this? How would 
 we know if things got serious\, and is this a risk worth engaging with?
CATEGORIES:General
URL;VALUE=URI:https://efektivnialtruizam.rs/mc-events/ai-safety-monthly-mee
 ting-13/
METHOD:PUBLISH
END:VEVENT
END:VCALENDAR