BEGIN:VCALENDAR
VERSION:2.0
PRODID:spatie/icalendar-generator
DESCRIPTION:Events from Efektivni altruizam
X-WR-CALDESC:Events from Efektivni altruizam
REFRESH-INTERVAL;VALUE=DURATION:PT1440M
X-PUBLISHED-TTL:PT1440M
BEGIN:VTIMEZONE
TZID:Etc/GMT+0
BEGIN:STANDARD
DTSTART:20250219T140000Z
TZOFFSETFROM:+0000
TZOFFSETTO:+0000
END:STANDARD
END:VTIMEZONE
BEGIN:VTIMEZONE
TZID:UTC
BEGIN:STANDARD
DTSTART:20250728T220907Z
TZOFFSETFROM:+0000
TZOFFSETTO:+0000
END:STANDARD
END:VTIMEZONE
BEGIN:VEVENT
UID:78-65
DTSTAMP:20260424T220907Z
SUMMARY:Monthly meeting EA/ACX/LW community
LOCATION:Green Bar House Dr. Dragoslava Popovica 24  Belgrade Serbia
ORGANIZER;CN=ezglcbmy:MAILTO:ezglcbmy@box5311.bluehost.com
DTSTART;TZID=Etc/GMT+0:20251116T140000
DTEND;TZID=Etc/GMT+0:20251116T160000
X-ALT-DESC;FMTTYPE=TEXT/HTML:1. How to find a job in a high-impact field? T
 he Pros and Cons of hiring non-EA talent - the discussion will be hosted 
 by Tatiana Skuratova. 2. Do one new thing a day to solve your problems.
CATEGORIES:General
URL;VALUE=URI:https://efektivnialtruizam.rs/mc-events/monthly-meeting-ea-ac
 x-lw-community-16/
METHOD:PUBLISH
END:VEVENT
END:VCALENDAR