BEGIN:VCALENDAR
VERSION:2.0
PRODID:spatie/icalendar-generator
DESCRIPTION:Events from Efektivni altruizam
X-WR-CALDESC:Events from Efektivni altruizam
REFRESH-INTERVAL;VALUE=DURATION:PT1440M
X-PUBLISHED-TTL:PT1440M
BEGIN:VTIMEZONE
TZID:Etc/GMT+0
BEGIN:STANDARD
DTSTART:20250514T140000Z
TZOFFSETFROM:+0000
TZOFFSETTO:+0000
END:STANDARD
END:VTIMEZONE
BEGIN:VTIMEZONE
TZID:UTC
BEGIN:STANDARD
DTSTART:20250728T090929Z
TZOFFSETFROM:+0000
TZOFFSETTO:+0000
END:STANDARD
END:VTIMEZONE
BEGIN:VEVENT
UID:86-72
DTSTAMP:20260424T090929Z
SUMMARY:Monthly meeting EA/ACX/LW community
LOCATION:Green Bar House Dr. Dragoslava Popovica 24  Belgrade Serbia
ORGANIZER;CN=ezglcbmy:MAILTO:ezglcbmy@box5311.bluehost.com
DTSTART;TZID=Etc/GMT+0:20260208T140000
DTEND;TZID=Etc/GMT+0:20260208T160000
X-ALT-DESC;FMTTYPE=TEXT/HTML:1. Has EA given up on politics? 2. What role d
 oes religion or spirituality play in your life?
CATEGORIES:General
URL;VALUE=URI:https://efektivnialtruizam.rs/mc-events/monthly-meeting-ea-ac
 x-lw-community-18/
METHOD:PUBLISH
END:VEVENT
END:VCALENDAR