BEGIN:VCALENDAR
VERSION:2.0
PRODID:spatie/icalendar-generator
DESCRIPTION:Events from Efektivni altruizam
X-WR-CALDESC:Events from Efektivni altruizam
REFRESH-INTERVAL;VALUE=DURATION:PT1440M
X-PUBLISHED-TTL:PT1440M
BEGIN:VTIMEZONE
TZID:Etc/GMT+0
BEGIN:STANDARD
DTSTART:20250521T140000Z
TZOFFSETFROM:+0000
TZOFFSETTO:+0000
END:STANDARD
END:VTIMEZONE
BEGIN:VTIMEZONE
TZID:UTC
BEGIN:STANDARD
DTSTART:20250726T000628Z
TZOFFSETFROM:+0000
TZOFFSETTO:+0000
END:STANDARD
END:VTIMEZONE
BEGIN:VEVENT
UID:87-73
DTSTAMP:20260422T000628Z
SUMMARY:AI Safety monthly meeting
LOCATION:Green Bar House Dr. Dragoslava Popovica 24  Belgrade Serbia
ORGANIZER;CN=ezglcbmy:MAILTO:ezglcbmy@box5311.bluehost.com
DTSTART;TZID=Etc/GMT+0:20260215T140000
DTEND;TZID=Etc/GMT+0:20260215T160000
X-ALT-DESC;FMTTYPE=TEXT/HTML:&amp;nbsp\; 1. Dario Amodei's essay on confronting
  and overcoming the risks of powerful AI 2. Moltbook and agentic AI
CATEGORIES:General
URL;VALUE=URI:https://efektivnialtruizam.rs/mc-events/ai-safety-monthly-mee
 ting-14/
METHOD:PUBLISH
END:VEVENT
END:VCALENDAR