BEGIN:VCALENDAR
VERSION:2.0
PRODID:spatie/icalendar-generator
DESCRIPTION:Events from Efektivni altruizam
X-WR-CALDESC:Events from Efektivni altruizam
REFRESH-INTERVAL;VALUE=DURATION:PT1440M
X-PUBLISHED-TTL:PT1440M
BEGIN:VTIMEZONE
TZID:Etc/GMT+0
BEGIN:STANDARD
DTSTART:20250611T160000Z
TZOFFSETFROM:+0000
TZOFFSETTO:+0000
END:STANDARD
END:VTIMEZONE
BEGIN:VTIMEZONE
TZID:UTC
BEGIN:STANDARD
DTSTART:20250725T190812Z
TZOFFSETFROM:+0000
TZOFFSETTO:+0000
END:STANDARD
END:VTIMEZONE
BEGIN:VEVENT
UID:89-75
DTSTAMP:20260421T190812Z
SUMMARY:casual meet up + bowling at Žabac Bowling Kuglana Karaburma
LOCATION:Žabac Bowling Kuglana
ORGANIZER;CN=ezglcbmy:MAILTO:ezglcbmy@box5311.bluehost.com
DTSTART;TZID=Etc/GMT+0:20260308T160000
DTEND;TZID=Etc/GMT+0:20260308T180000
X-ALT-DESC;FMTTYPE=TEXT/HTML:casual meet up + bowling at Žabac Bowling Kug
 lana Karaburma. Please email (or WhatsApp/Telegram) me at tanja.trninic@ef
 ektivnialtruizam.com if you’d like to participate.
CATEGORIES:General
URL;VALUE=URI:https://efektivnialtruizam.rs/mc-events/casual-meet-up-bowlin
 g-at-zabac-bowling-kuglana-karaburma/
METHOD:PUBLISH
END:VEVENT
END:VCALENDAR