BEGIN:VCALENDAR
VERSION:2.0
PRODID:spatie/icalendar-generator
DESCRIPTION:Events from Efektivni altruizam
X-WR-CALDESC:Events from Efektivni altruizam
REFRESH-INTERVAL;VALUE=DURATION:PT1440M
X-PUBLISHED-TTL:PT1440M
BEGIN:VTIMEZONE
TZID:Etc/GMT+0
BEGIN:STANDARD
DTSTART:20250625T140000Z
TZOFFSETFROM:+0000
TZOFFSETTO:+0000
END:STANDARD
END:VTIMEZONE
BEGIN:VTIMEZONE
TZID:UTC
BEGIN:STANDARD
DTSTART:20250725T163436Z
TZOFFSETFROM:+0000
TZOFFSETTO:+0000
END:STANDARD
END:VTIMEZONE
BEGIN:VEVENT
UID:91-77
DTSTAMP:20260421T163436Z
SUMMARY:Monthly meeting EA/ACX/LW community
LOCATION:Green Bar House Dr. Dragoslava Popovica 24  Belgrade Serbia
ORGANIZER;CN=ezglcbmy:MAILTO:ezglcbmy@box5311.bluehost.com
DTSTART;TZID=Etc/GMT+0:20260322T140000
DTEND;TZID=Etc/GMT+0:20260322T160000
X-ALT-DESC;FMTTYPE=TEXT/HTML:Monthly meeting EA/ACX/LW community (with 2 to
 pics\, we’ll spend around an hour on each): 1. Are alternative proteins 
 an effective intervention for animals? 2. What does it mean to be a good c
 itizen for you? What would you add or deduct from this list?
CATEGORIES:General
URL;VALUE=URI:https://efektivnialtruizam.rs/mc-events/monthly-meeting-ea-ac
 x-lw-community-19/
METHOD:PUBLISH
END:VEVENT
END:VCALENDAR